BEGIN:VCALENDAR
VERSION:2.0
METHOD:PUBLISH
CALSCALE:GREGORIAN
PRODID:-//WordPress - MECv7.27.0//EN
X-ORIGINAL-URL:https://powerhub.cz/
X-WR-CALNAME:PowerHUB
X-WR-CALDESC:Power for Ventures
X-WR-TIMEZONE:Europe/Prague
BEGIN:VTIMEZONE
TZID:Europe/Prague
X-LIC-LOCATION:Europe/Prague
BEGIN:DAYLIGHT
TZOFFSETFROM:+0100
TZOFFSETTO:+0200
TZNAME:CEST
DTSTART:20260329T030000
RRULE:FREQ=YEARLY;BYMONTH=03;BYDAY=-1SU
END:DAYLIGHT
BEGIN:STANDARD
TZOFFSETFROM:+0200
TZOFFSETTO:+0100
TZNAME:CET
DTSTART:20261025T020000
RRULE:FREQ=YEARLY;BYMONTH=10;BYDAY=4SU
END:STANDARD
END:VTIMEZONE
REFRESH-INTERVAL;VALUE=DURATION:PT1H
X-PUBLISHED-TTL:PT1H
X-MS-OLK-FORCEINSPECTOROPEN:TRUE
BEGIN:VEVENT
CLASS:PUBLIC
UID:MEC-13d2b7361a27dbc9960ae158598a6a96@powerhub.cz
DTSTART;TZID=Europe/Prague:20260602T000000
DTEND;TZID=Europe/Prague:20260605T000000
DTSTAMP:20260318T154700Z
CREATED:20260318
LAST-MODIFIED:20260318
PRIORITY:5
SEQUENCE:1
TRANSP:OPAQUE
SUMMARY:URBIS The Smart Cities Meetup 2026: PowerHUB is heading to Brno
DESCRIPTION:\nSmart, resilient, and sustainable cities are no longer just a vision of the future, but a necessity of today. Join us at URBIS The Smart Cities Meetup 2026, a key national platform for sharing innovations among local governments, experts, and technology partners. PowerHUB will, of course, be there!\nAt the beginning of June, the Brno Exhibition Centre will come alive with innovation. URBIS 2026 is not just a standard conference or a purely technological fair; it is a place where the real needs of Czech and European municipalities meet practical and sustainable solutions. The event aims to show that innovation and effective development are accessible to municipalities of all sizes.\n\nWhat awaits you at URBIS 2026?\nThis year’s edition views urban development through the unified lens of resilience and economic sustainability. The program is packed with case studies, best-practice sharing, and discussion panels on topics closely related to our work at PowerHUB:\n\n\nInnovative infrastructure and energy: Community energy, efficient water and waste management, and climate change adaptation.\n\n\nDigitalization and city management: Utilizing open data, evidence-based decision making, digital tools, and artificial intelligence in public administration services.\n\n\nSmart and sustainable mobility: Planning the transportation of the future with a focus on long-term stability and the quality of life of residents.\n\n\nSecurity and crisis preparedness: Integrating security elements into the Smart City concept and implementing technologies to protect public order.\n\n\n\nMeet with PowerHUB\nFor the PowerHUB team, URBIS represents an ideal opportunity for networking and connecting our technological and innovative solutions with those who need them most in practice—representatives of cities and municipalities. Whether you are looking for consultations on implementing smart mobility, are interested in funding opportunities for innovative projects, or are searching for a reliable partner to transform your region, we will be on-site ready to discuss cooperation possibilities.\n
URL:https://powerhub.cz/events/urbis-the-smart-cities-meetup-2026-powerhub-is-heading-to-brno/
END:VEVENT
END:VCALENDAR
